BEGIN:VCALENDAR
VERSION:2.0
PRODID:-//TC Oberding e.V. - ECPv6.3.5//NONSGML v1.0//EN
CALSCALE:GREGORIAN
METHOD:PUBLISH
X-ORIGINAL-URL:https://tc-oberding.de
X-WR-CALDESC:Veranstaltungen für TC Oberding e.V.
REFRESH-INTERVAL;VALUE=DURATION:PT1H
X-Robots-Tag:noindex
X-PUBLISHED-TTL:PT1H
BEGIN:VTIMEZONE
TZID:Europe/Berlin
BEGIN:DAYLIGHT
TZOFFSETFROM:+0100
TZOFFSETTO:+0200
TZNAME:CEST
DTSTART:20230326T010000
END:DAYLIGHT
BEGIN:STANDARD
TZOFFSETFROM:+0200
TZOFFSETTO:+0100
TZNAME:CET
DTSTART:20231029T010000
END:STANDARD
END:VTIMEZONE
BEGIN:VEVENT
DTSTART;TZID=Europe/Berlin:20230604T130000
DTEND;TZID=Europe/Berlin:20230604T180000
DTSTAMP:20260421T150824
CREATED:20230328T210708Z
LAST-MODIFIED:20230328T210708Z
UID:421-1685883600-1685901600@tc-oberding.de
SUMMARY:Doppel-Clubmeisterschaften
DESCRIPTION:
URL:https://tc-oberding.de/event/doppel-clubmeisterschaften/
ATTACH;FMTTYPE=image/jpeg:https://tc-oberding.de/wp-content/uploads/2023/01/tennis-oberding-herren-2019.jpg
END:VEVENT
BEGIN:VEVENT
DTSTART;TZID=Europe/Berlin:20230610T090000
DTEND;TZID=Europe/Berlin:20230610T170000
DTSTAMP:20260421T150824
CREATED:20230328T210753Z
LAST-MODIFIED:20230328T210753Z
UID:423-1686387600-1686416400@tc-oberding.de
SUMMARY:Einzel-LK-Turnier Juni 23
DESCRIPTION:
URL:https://tc-oberding.de/event/einzel-lk-turnier-juni-23/
ATTACH;FMTTYPE=image/jpeg:https://tc-oberding.de/wp-content/uploads/2023/01/tennis-oberding-herren-2019.jpg
END:VEVENT
END:VCALENDAR