BEGIN:VCALENDAR
VERSION:2.0
PRODID:-//TC Oberding e.V. - ECPv6.3.5//NONSGML v1.0//EN
CALSCALE:GREGORIAN
METHOD:PUBLISH
X-ORIGINAL-URL:https://tc-oberding.de
X-WR-CALDESC:Veranstaltungen für TC Oberding e.V.
REFRESH-INTERVAL;VALUE=DURATION:PT1H
X-Robots-Tag:noindex
X-PUBLISHED-TTL:PT1H
BEGIN:VTIMEZONE
TZID:Europe/Berlin
BEGIN:DAYLIGHT
TZOFFSETFROM:+0100
TZOFFSETTO:+0200
TZNAME:CEST
DTSTART:20230326T010000
END:DAYLIGHT
BEGIN:STANDARD
TZOFFSETFROM:+0200
TZOFFSETTO:+0100
TZNAME:CET
DTSTART:20231029T010000
END:STANDARD
END:VTIMEZONE
BEGIN:VEVENT
DTSTART;TZID=Europe/Berlin:20230325T093000
DTEND;TZID=Europe/Berlin:20230325T170000
DTSTAMP:20260421T195145
CREATED:20230309T223838Z
LAST-MODIFIED:20230309T223838Z
UID:387-1679736600-1679763600@tc-oberding.de
SUMMARY:Frühjahrs-Ramadama 2023
DESCRIPTION:Liebe Mitglieder\, \nder Start der Tennissaison 2023 rückt langsam näher. Daher wollen wir unsere schöne Anlage auch aus dem Winterschlaf erwecken. Dabei zählen wir auf die tatkräftige Mithilfe unserer Mitglieder. \nAm Samstag\, den 25.03.2023 um 9.30 Uhr\, \ntreffen wir uns auf der Tennisanlage in Oberding. \nDann heißt es Laub zusammenrechen\, Terrasse und Wege kehren bzw. hochdruckreinigen\, Bänke säubern und aufstellen\, Windschutz-Planen an den Plätzen anbringen\, Terrassenmöbel raustragen und aufstellen……und…..und…..und……… \nEs gibt also viel zu tun und je mehr mithelfen\, umso leichter sind Lasten zu tragen und umso schneller werden wir fertig. Bitte nehmt euch die Zeit\, auch dieses „Miteinander“ gehört zum Vereinsleben und stärkt die Zugehörigkeit zu eurem Verein. \nFür Verpflegung ist selbstverständlich gesorgt! \nAus organisatorischen Gründen meldet euch bitte an\, spätestens bis zum 20.03.2023! \nBitte bringt soweit möglich euer eigenes „Werkzeug“(Laubrechen\, Eimer\, Gartenschere\, Heckenschere\, Arbeitshandschuhe\, Schubkarre\,  Besen\, ……..) mit. Es macht wenig Sinn\, wenn 10 Leute da sind aber nur ein Besen:-) \nHoffe auf gutes Wetter und rege Beteiligung \nUte Attenberger \n1.Vorsitzende TC Oberding
URL:https://tc-oberding.de/event/fruehjahrs-ramadama-2023/
ATTACH;FMTTYPE=image/jpeg:https://tc-oberding.de/wp-content/uploads/2023/01/Ramadama_01.jpeg
END:VEVENT
END:VCALENDAR