BEGIN:VCALENDAR
VERSION:2.0
PRODID:-//TC Oberding e.V. - ECPv6.3.5//NONSGML v1.0//EN
CALSCALE:GREGORIAN
METHOD:PUBLISH
X-ORIGINAL-URL:https://tc-oberding.de
X-WR-CALDESC:Veranstaltungen für TC Oberding e.V.
REFRESH-INTERVAL;VALUE=DURATION:PT1H
X-Robots-Tag:noindex
X-PUBLISHED-TTL:PT1H
BEGIN:VTIMEZONE
TZID:Europe/Berlin
BEGIN:DAYLIGHT
TZOFFSETFROM:+0100
TZOFFSETTO:+0200
TZNAME:CEST
DTSTART:20230326T010000
END:DAYLIGHT
BEGIN:STANDARD
TZOFFSETFROM:+0200
TZOFFSETTO:+0100
TZNAME:CET
DTSTART:20231029T010000
END:STANDARD
END:VTIMEZONE
BEGIN:VEVENT
DTSTART;VALUE=DATE:20230924
DTEND;VALUE=DATE:20230925
DTSTAMP:20260421T115738
CREATED:20230328T211249Z
LAST-MODIFIED:20230328T211249Z
UID:435-1695513600-1695599999@tc-oberding.de
SUMMARY:Saisonabschluss 2023
DESCRIPTION:
URL:https://tc-oberding.de/event/saisonabschluss-2023/
ATTACH;FMTTYPE=image/jpeg:https://tc-oberding.de/wp-content/uploads/2023/01/tennis-oberding-herren-2019.jpg
END:VEVENT
BEGIN:VEVENT
DTSTART;TZID=Europe/Berlin:20230924T130000
DTEND;TZID=Europe/Berlin:20230924T180000
DTSTAMP:20260421T115738
CREATED:20230328T211202Z
LAST-MODIFIED:20230328T211202Z
UID:433-1695560400-1695578400@tc-oberding.de
SUMMARY:Schleiferlturnier September 23
DESCRIPTION:
URL:https://tc-oberding.de/event/schleiferlturnier-september-23/
ATTACH;FMTTYPE=image/jpeg:https://tc-oberding.de/wp-content/uploads/2023/01/tennis-oberding-herren-2019.jpg
END:VEVENT
END:VCALENDAR